BEGIN:VCALENDAR
VERSION:2.0
PRODID:-//Indian Lake Golf Course - ECPv6.15.20//NONSGML v1.0//EN
CALSCALE:GREGORIAN
METHOD:PUBLISH
X-WR-CALNAME:Indian Lake Golf Course
X-ORIGINAL-URL:https://indianlakegolfcourse.com
X-WR-CALDESC:Events for Indian Lake Golf Course
REFRESH-INTERVAL;VALUE=DURATION:PT1H
X-Robots-Tag:noindex
X-PUBLISHED-TTL:PT1H
BEGIN:VTIMEZONE
TZID:America/New_York
BEGIN:DAYLIGHT
TZOFFSETFROM:-0500
TZOFFSETTO:-0400
TZNAME:EDT
DTSTART:20250309T070000
END:DAYLIGHT
BEGIN:STANDARD
TZOFFSETFROM:-0400
TZOFFSETTO:-0500
TZNAME:EST
DTSTART:20251102T060000
END:STANDARD
BEGIN:DAYLIGHT
TZOFFSETFROM:-0500
TZOFFSETTO:-0400
TZNAME:EDT
DTSTART:20260308T070000
END:DAYLIGHT
BEGIN:STANDARD
TZOFFSETFROM:-0400
TZOFFSETTO:-0500
TZNAME:EST
DTSTART:20261101T060000
END:STANDARD
BEGIN:DAYLIGHT
TZOFFSETFROM:-0500
TZOFFSETTO:-0400
TZNAME:EDT
DTSTART:20270314T070000
END:DAYLIGHT
BEGIN:STANDARD
TZOFFSETFROM:-0400
TZOFFSETTO:-0500
TZNAME:EST
DTSTART:20271107T060000
END:STANDARD
END:VTIMEZONE
BEGIN:VEVENT
DTSTART;VALUE=DATE:20260718
DTEND;VALUE=DATE:20260719
DTSTAMP:20260423T192106
CREATED:20260216T003249Z
LAST-MODIFIED:20260216T003249Z
UID:6893-1784332800-1784419199@indianlakegolfcourse.com
SUMMARY:Class of 1986 Reunion
DESCRIPTION:
URL:https://indianlakegolfcourse.com/ilgcevent/class-of-1986-reunion/
END:VEVENT
BEGIN:VEVENT
DTSTART;VALUE=DATE:20260724
DTEND;VALUE=DATE:20260725
DTSTAMP:20260423T192106
CREATED:20230404T134700Z
LAST-MODIFIED:20260130T172237Z
UID:6738-1784851200-1784937599@indianlakegolfcourse.com
SUMMARY:Rotary 4 Person Scramble
DESCRIPTION:
URL:https://indianlakegolfcourse.com/ilgcevent/rotary-4-person-scramble/
END:VEVENT
BEGIN:VEVENT
DTSTART;VALUE=DATE:20260801
DTEND;VALUE=DATE:20260802
DTSTAMP:20260423T192106
CREATED:20190311T173218Z
LAST-MODIFIED:20260130T172216Z
UID:6004-1785542400-1785628799@indianlakegolfcourse.com
SUMMARY:Elks Golf Scramble
DESCRIPTION:
URL:https://indianlakegolfcourse.com/ilgcevent/elks-golf-scramble/
END:VEVENT
BEGIN:VEVENT
DTSTART;VALUE=DATE:20260807
DTEND;VALUE=DATE:20260808
DTSTAMP:20260423T192106
CREATED:20240206T224744Z
LAST-MODIFIED:20260130T172155Z
UID:6774-1786060800-1786147199@indianlakegolfcourse.com
SUMMARY:Schoolcraft County Veterans Outing
DESCRIPTION:
URL:https://indianlakegolfcourse.com/ilgcevent/schoolcraft-county-veterans-outing/
END:VEVENT
BEGIN:VEVENT
DTSTART;VALUE=DATE:20260810
DTEND;VALUE=DATE:20260811
DTSTAMP:20260423T192106
CREATED:20220713T131618Z
LAST-MODIFIED:20260216T003940Z
UID:6687-1786320000-1786406399@indianlakegolfcourse.com
SUMMARY:Deb Carlson Memorial 3-Woman Scramble
DESCRIPTION:CLICK HERE FOR THE PRINTABLE FORM\n2026 3 Woman
URL:https://indianlakegolfcourse.com/ilgcevent/deb-carlson-memorial-3-woman-scramble/
END:VEVENT
BEGIN:VEVENT
DTSTART;VALUE=DATE:20260815
DTEND;VALUE=DATE:20260817
DTSTAMP:20260423T192106
CREATED:20220608T000823Z
LAST-MODIFIED:20260130T172017Z
UID:6676-1786752000-1786924799@indianlakegolfcourse.com
SUMMARY:Men’s Club Championships
DESCRIPTION:
URL:https://indianlakegolfcourse.com/ilgcevent/mens-club-championship/
END:VEVENT
BEGIN:VEVENT
DTSTART;VALUE=DATE:20260822
DTEND;VALUE=DATE:20260824
DTSTAMP:20260423T192106
CREATED:20190311T173517Z
LAST-MODIFIED:20260216T003805Z
UID:6014-1787356800-1787529599@indianlakegolfcourse.com
SUMMARY:2-Person Ryder Cup Tournament
DESCRIPTION:CLICK HERE FOR THE PRINTABLE FORM\n2026 Ryder Cup
URL:https://indianlakegolfcourse.com/ilgcevent/2-man-ryder-cup-tournament/
END:VEVENT
BEGIN:VEVENT
DTSTART;VALUE=DATE:20260912
DTEND;VALUE=DATE:20260913
DTSTAMP:20260423T192106
CREATED:20190311T173551Z
LAST-MODIFIED:20260216T003656Z
UID:6016-1789171200-1789257599@indianlakegolfcourse.com
SUMMARY:Couples Tournament
DESCRIPTION:CLICK HERE FOR THE PRINTABLE FORM\n2026 Couples Tournament
URL:https://indianlakegolfcourse.com/ilgcevent/couples-tournament/
END:VEVENT
BEGIN:VEVENT
DTSTART;VALUE=DATE:20260919
DTEND;VALUE=DATE:20260920
DTSTAMP:20260423T192106
CREATED:20210113T221034Z
LAST-MODIFIED:20260130T172943Z
UID:6578-1789776000-1789862399@indianlakegolfcourse.com
SUMMARY:Demers Gang Scramble
DESCRIPTION:
URL:https://indianlakegolfcourse.com/ilgcevent/4-person-demers-scramble-gang-open/
END:VEVENT
END:VCALENDAR